BEGIN:VCALENDAR
VERSION:2.0
PRODID:-//DARTS - ECPv6.15.17.1//NONSGML v1.0//EN
CALSCALE:GREGORIAN
METHOD:PUBLISH
X-ORIGINAL-URL:https://dartsconnects.org
X-WR-CALDESC:Events for DARTS
REFRESH-INTERVAL;VALUE=DURATION:PT1H
X-Robots-Tag:noindex
X-PUBLISHED-TTL:PT1H
BEGIN:VTIMEZONE
TZID:America/Chicago
BEGIN:DAYLIGHT
TZOFFSETFROM:-0600
TZOFFSETTO:-0500
TZNAME:CDT
DTSTART:20230312T080000
END:DAYLIGHT
BEGIN:STANDARD
TZOFFSETFROM:-0500
TZOFFSETTO:-0600
TZNAME:CST
DTSTART:20231105T070000
END:STANDARD
BEGIN:DAYLIGHT
TZOFFSETFROM:-0600
TZOFFSETTO:-0500
TZNAME:CDT
DTSTART:20240310T080000
END:DAYLIGHT
BEGIN:STANDARD
TZOFFSETFROM:-0500
TZOFFSETTO:-0600
TZNAME:CST
DTSTART:20241103T070000
END:STANDARD
BEGIN:DAYLIGHT
TZOFFSETFROM:-0600
TZOFFSETTO:-0500
TZNAME:CDT
DTSTART:20250309T080000
END:DAYLIGHT
BEGIN:STANDARD
TZOFFSETFROM:-0500
TZOFFSETTO:-0600
TZNAME:CST
DTSTART:20251102T070000
END:STANDARD
END:VTIMEZONE
BEGIN:VEVENT
DTSTART;TZID=America/Chicago:20240322T100000
DTEND;TZID=America/Chicago:20240322T140000
DTSTAMP:20260421T115234
CREATED:20240325T155754Z
LAST-MODIFIED:20240325T155754Z
UID:11258-1711101600-1711116000@dartsconnects.org
SUMMARY:The Breathing Space - Eagan
DESCRIPTION:DARTS group respite\, The Breathing Space\, gives caregivers a break by providing supervision\, companionship\, and social engagement for care receivers with 4 hours of brain-stimulating activities. The program is designed for individuals with early- to mid- stage memory loss or other conditions that require some supervision. \nThere are two locations available for group respite: \n\nThis location: Easter Lutheran Church in Eagan | Every Friday (beginning June 2024) | 10AM – 2PM\nAugustana Lutheran Church in West St. Paul | Every Thursday (beginning April 2024) | 10AM – 2PM\n\nParticipation in The Breathing Space program is free! Pre-Registration Required to participate. Call DARTS at the number below to register. 								\n				\n				\n				\n									Call to Register: (651) 455-1560
URL:https://dartsconnects.org/event/thebreathingspace-eagan-32224/
LOCATION:Easter Lutheran Church\, 4545 Pilot Knob Rd\, Eagan\, MN\, 55122\, United States
CATEGORIES:Monthly Events,The Breathing Space
ATTACH;FMTTYPE=image/jpeg:https://dartsconnects.org/wp-content/uploads/2023/06/Bonnie-Laura-Volunteer-Jenga-Edited.jpg
END:VEVENT
BEGIN:VEVENT
DTSTART;TZID=America/Chicago:20240314T100000
DTEND;TZID=America/Chicago:20240314T140000
DTSTAMP:20260421T115235
CREATED:20240325T155433Z
LAST-MODIFIED:20240325T155633Z
UID:11252-1710410400-1710424800@dartsconnects.org
SUMMARY:The Breathing Space - West St. Paul
DESCRIPTION:DARTS group respite\, The Breathing Space\, gives caregivers a break by providing supervision\, companionship\, and social engagement for care receivers with 4 hours of brain-stimulating activities. The program is designed for individuals with early- to mid- stage memory loss or other conditions that require some supervision. \nThere are two locations available for group respite: \n\nThis location: Easter Lutheran Church in Eagan | Every Friday (beginning June 2024) | 10AM – 2PM\nAugustana Lutheran Church in West St. Paul | Every Thursday (beginning April 2024) | 10AM – 2PM\n\nParticipation in The Breathing Space program is free! Pre-Registration Required to participate. Call DARTS at the number below to register. 								\n				\n				\n				\n									Call to Register: (651) 455-1560
URL:https://dartsconnects.org/event/thebreathingspace-wsp-31424/
LOCATION:Augustana Lutheran Church\, 1400 S Robert St\, West St. Paul\, MN\, 55118\, United States
CATEGORIES:Monthly Events,The Breathing Space
ATTACH;FMTTYPE=image/jpeg:https://dartsconnects.org/wp-content/uploads/2024/01/Micheal-Susan-and-Tricia-rotated-e1704390264311.jpg
END:VEVENT
BEGIN:VEVENT
DTSTART;TZID=America/Chicago:20240308T100000
DTEND;TZID=America/Chicago:20240308T140000
DTSTAMP:20260421T115235
CREATED:20240325T155712Z
LAST-MODIFIED:20240325T155712Z
UID:11256-1709892000-1709906400@dartsconnects.org
SUMMARY:The Breathing Space - Eagan
DESCRIPTION:DARTS group respite\, The Breathing Space\, gives caregivers a break by providing supervision\, companionship\, and social engagement for care receivers with 4 hours of brain-stimulating activities. The program is designed for individuals with early- to mid- stage memory loss or other conditions that require some supervision. \nThere are two locations available for group respite: \n\nThis location: Easter Lutheran Church in Eagan | Every Friday (beginning June 2024) | 10AM – 2PM\nAugustana Lutheran Church in West St. Paul | Every Thursday (beginning April 2024) | 10AM – 2PM\n\nParticipation in The Breathing Space program is free! Pre-Registration Required to participate. Call DARTS at the number below to register. 								\n				\n				\n				\n									Call to Register: (651) 455-1560
URL:https://dartsconnects.org/event/thebreathingspace-eagan-3824/
LOCATION:Easter Lutheran Church\, 4545 Pilot Knob Rd\, Eagan\, MN\, 55122\, United States
CATEGORIES:Monthly Events,The Breathing Space
ATTACH;FMTTYPE=image/jpeg:https://dartsconnects.org/wp-content/uploads/2023/06/Bonnie-Laura-Volunteer-Jenga-Edited.jpg
END:VEVENT
BEGIN:VEVENT
DTSTART;TZID=America/Chicago:20240223T100000
DTEND;TZID=America/Chicago:20240223T140000
DTSTAMP:20260421T115235
CREATED:20240119T173331Z
LAST-MODIFIED:20240119T173331Z
UID:10745-1708682400-1708696800@dartsconnects.org
SUMMARY:The Breathing Space - Eagan
DESCRIPTION:DARTS group respite\, The Breathing Space\, gives caregivers a break by providing supervision\, companionship\, and social engagement for care receivers with 4 hours of brain-stimulating activities. The program is designed for individuals with early- to mid- stage memory loss or other conditions that require some supervision. \nThere are two locations available for group respite: \n\nThis location: Easter Lutheran Church in Eagan | Every Friday (beginning June 2024) | 10AM – 2PM\nAugustana Lutheran Church in West St. Paul | Every Thursday (beginning April 2024) | 10AM – 2PM\n\nParticipation in The Breathing Space program is free! Pre-Registration Required to participate. Call DARTS at the number below to register. 								\n				\n				\n				\n									Call to Register: (651) 455-1560
URL:https://dartsconnects.org/event/thebreathingspace-eagan-22324/
LOCATION:Easter Lutheran Church\, 4545 Pilot Knob Rd\, Eagan\, MN\, 55122\, United States
CATEGORIES:Monthly Events,The Breathing Space
ATTACH;FMTTYPE=image/jpeg:https://dartsconnects.org/wp-content/uploads/2023/06/Bonnie-Laura-Volunteer-Jenga-Edited.jpg
END:VEVENT
BEGIN:VEVENT
DTSTART;TZID=America/Chicago:20240215T100000
DTEND;TZID=America/Chicago:20240215T140000
DTSTAMP:20260421T115235
CREATED:20240119T173411Z
LAST-MODIFIED:20240213T204035Z
UID:10744-1707991200-1708005600@dartsconnects.org
SUMMARY:The Breathing Space - West St. Paul
DESCRIPTION:DARTS group respite\, The Breathing Space\, gives caregivers a break by providing supervision\, companionship\, and social engagement for care receivers with 4 hours of brain-stimulating activities. The program is designed for individuals with early- to mid- stage memory loss or other conditions that require some supervision. \nThere are two locations available for group respite: \n\nThis location: Easter Lutheran Church in Eagan | Every Friday (beginning June 2024) | 10AM – 2PM\nAugustana Lutheran Church in West St. Paul | Every Thursday (beginning April 2024) | 10AM – 2PM\n\nParticipation in The Breathing Space program is free! Pre-Registration Required to participate. Call DARTS at the number below to register. 								\n				\n				\n				\n									Call to Register: (651) 455-1560
URL:https://dartsconnects.org/event/th-breathingspace-wsp-21524/
LOCATION:Augustana Lutheran Church\, 1400 S Robert St\, West St. Paul\, MN\, 55118\, United States
CATEGORIES:Monthly Events,The Breathing Space
ATTACH;FMTTYPE=image/jpeg:https://dartsconnects.org/wp-content/uploads/2024/01/Micheal-Susan-and-Tricia-rotated-e1704390264311.jpg
END:VEVENT
BEGIN:VEVENT
DTSTART;TZID=America/Chicago:20240209T100000
DTEND;TZID=America/Chicago:20240209T140000
DTSTAMP:20260421T115235
CREATED:20240119T173256Z
LAST-MODIFIED:20240119T173256Z
UID:10743-1707472800-1707487200@dartsconnects.org
SUMMARY:The Breathing Space - Eagan
DESCRIPTION:DARTS group respite\, The Breathing Space\, gives caregivers a break by providing supervision\, companionship\, and social engagement for care receivers with 4 hours of brain-stimulating activities. The program is designed for individuals with early- to mid- stage memory loss or other conditions that require some supervision. \nThere are two locations available for group respite: \n\nThis location: Easter Lutheran Church in Eagan | Every Friday (beginning June 2024) | 10AM – 2PM\nAugustana Lutheran Church in West St. Paul | Every Thursday (beginning April 2024) | 10AM – 2PM\n\nParticipation in The Breathing Space program is free! Pre-Registration Required to participate. Call DARTS at the number below to register. 								\n				\n				\n				\n									Call to Register: (651) 455-1560
URL:https://dartsconnects.org/event/thebreathingspace-eagan-2924/
LOCATION:Easter Lutheran Church\, 4545 Pilot Knob Rd\, Eagan\, MN\, 55122\, United States
CATEGORIES:Monthly Events,The Breathing Space
ATTACH;FMTTYPE=image/jpeg:https://dartsconnects.org/wp-content/uploads/2023/06/Bonnie-Laura-Volunteer-Jenga-Edited.jpg
END:VEVENT
BEGIN:VEVENT
DTSTART;TZID=America/Chicago:20240201T100000
DTEND;TZID=America/Chicago:20240201T140000
DTSTAMP:20260421T115235
CREATED:20240119T173029Z
LAST-MODIFIED:20240119T173029Z
UID:10742-1706781600-1706796000@dartsconnects.org
SUMMARY:The Breathing Space - West St. Paul
DESCRIPTION:DARTS group respite\, The Breathing Space\, gives caregivers a break by providing supervision\, companionship\, and social engagement for care receivers with 4 hours of brain-stimulating activities. The program is designed for individuals with early- to mid- stage memory loss or other conditions that require some supervision. \nThere are two locations available for group respite: \n\nThis location: Easter Lutheran Church in Eagan | Every Friday (beginning June 2024) | 10AM – 2PM\nAugustana Lutheran Church in West St. Paul | Every Thursday (beginning April 2024) | 10AM – 2PM\n\nParticipation in The Breathing Space program is free! Pre-Registration Required to participate. Call DARTS at the number below to register. 								\n				\n				\n				\n									Call to Register: (651) 455-1560
URL:https://dartsconnects.org/event/thebreathingspace-wsp-feb124/
LOCATION:Augustana Lutheran Church\, 1400 S Robert St\, West St. Paul\, MN\, 55118\, United States
CATEGORIES:Monthly Events,The Breathing Space
ATTACH;FMTTYPE=image/jpeg:https://dartsconnects.org/wp-content/uploads/2024/01/Micheal-Susan-and-Tricia-rotated-e1704390264311.jpg
END:VEVENT
BEGIN:VEVENT
DTSTART;TZID=America/Chicago:20240126T100000
DTEND;TZID=America/Chicago:20240126T140000
DTSTAMP:20260421T115235
CREATED:20240104T170003Z
LAST-MODIFIED:20240104T180701Z
UID:10678-1706263200-1706277600@dartsconnects.org
SUMMARY:The Breathing Space - Eagan
DESCRIPTION:DARTS group respite\, The Breathing Space\, gives caregivers a break by providing supervision\, companionship\, and social engagement for care receivers with 4 hours of brain-stimulating activities. The program is designed for individuals with early- to mid- stage memory loss or other conditions that require some supervision. \nThere are two locations available for group respite: \n\nThis location: Easter Lutheran Church in Eagan | Every Friday (beginning June 2024) | 10AM – 2PM\nAugustana Lutheran Church in West St. Paul | Every Thursday (beginning April 2024) | 10AM – 2PM\n\nParticipation in The Breathing Space program is free! Pre-Registration Required to participate. Call DARTS at the number below to register. 								\n				\n				\n				\n									Call to Register: (651) 455-1560
URL:https://dartsconnects.org/event/thebreathingspace-eagan-12624/
LOCATION:Easter Lutheran Church\, 4545 Pilot Knob Rd\, Eagan\, MN\, 55122\, United States
CATEGORIES:Monthly Events,The Breathing Space
ATTACH;FMTTYPE=image/jpeg:https://dartsconnects.org/wp-content/uploads/2023/06/Bonnie-Laura-Volunteer-Jenga-Edited.jpg
END:VEVENT
BEGIN:VEVENT
DTSTART;TZID=America/Chicago:20240118T100000
DTEND;TZID=America/Chicago:20240118T140000
DTSTAMP:20260421T115235
CREATED:20240104T174258Z
LAST-MODIFIED:20240104T180740Z
UID:10697-1705572000-1705586400@dartsconnects.org
SUMMARY:The Breathing Space - West St. Paul
DESCRIPTION:DARTS group respite\, The Breathing Space\, gives caregivers a break by providing supervision\, companionship\, and social engagement for care receivers with 4 hours of brain-stimulating activities. The program is designed for individuals with early- to mid- stage memory loss or other conditions that require some supervision. \nThere are two locations available for group respite: \n\nThis location: Easter Lutheran Church in Eagan | Every Friday (beginning June 2024) | 10AM – 2PM\nAugustana Lutheran Church in West St. Paul | Every Thursday (beginning April 2024) | 10AM – 2PM\n\nParticipation in The Breathing Space program is free! Pre-Registration Required to participate. Call DARTS at the number below to register. 								\n				\n				\n				\n									Call to Register: (651) 455-1560
URL:https://dartsconnects.org/event/thebreathingspace-wsp-11824/
LOCATION:Augustana Lutheran Church\, 1400 S Robert St\, West St. Paul\, MN\, 55118\, United States
CATEGORIES:Monthly Events,The Breathing Space
ATTACH;FMTTYPE=image/jpeg:https://dartsconnects.org/wp-content/uploads/2024/01/Micheal-Susan-and-Tricia-rotated-e1704390264311.jpg
END:VEVENT
BEGIN:VEVENT
DTSTART;TZID=America/Chicago:20240112T100000
DTEND;TZID=America/Chicago:20240112T140000
DTSTAMP:20260421T115235
CREATED:20240104T163412Z
LAST-MODIFIED:20240104T180721Z
UID:10670-1705053600-1705068000@dartsconnects.org
SUMMARY:The Breathing Space - Eagan
DESCRIPTION:DARTS group respite\, The Breathing Space\, gives caregivers a break by providing supervision\, companionship\, and social engagement for care receivers with 4 hours of brain-stimulating activities. The program is designed for individuals with early- to mid- stage memory loss or other conditions that require some supervision. \nThere are two locations available for group respite: \n\nThis location: Easter Lutheran Church in Eagan | Every Friday (beginning June 2024) | 10AM – 2PM\nAugustana Lutheran Church in West St. Paul | Every Thursday (beginning April 2024) | 10AM – 2PM\n\nParticipation in The Breathing Space program is free! Pre-Registration Required to participate. Call DARTS at the number below to register. 								\n				\n				\n				\n									Call to Register: (651) 455-1560
URL:https://dartsconnects.org/event/thebreathingspace-eagan-11224/
LOCATION:Easter Lutheran Church\, 4545 Pilot Knob Rd\, Eagan\, MN\, 55122\, United States
CATEGORIES:Monthly Events,The Breathing Space
ATTACH;FMTTYPE=image/jpeg:https://dartsconnects.org/wp-content/uploads/2023/06/Bonnie-Laura-Volunteer-Jenga-Edited.jpg
END:VEVENT
BEGIN:VEVENT
DTSTART;TZID=America/Chicago:20240104T100000
DTEND;TZID=America/Chicago:20240104T140000
DTSTAMP:20260421T115235
CREATED:20240104T174005Z
LAST-MODIFIED:20240104T180806Z
UID:10689-1704362400-1704376800@dartsconnects.org
SUMMARY:The Breathing Space - West St. Paul
DESCRIPTION:DARTS group respite\, The Breathing Space\, gives caregivers a break by providing supervision\, companionship\, and social engagement for care receivers with 4 hours of brain-stimulating activities. The program is designed for individuals with early- to mid- stage memory loss or other conditions that require some supervision. \nThere are two locations available for group respite: \n\nThis location: Easter Lutheran Church in Eagan | Every Friday (beginning June 2024) | 10AM – 2PM\nAugustana Lutheran Church in West St. Paul | Every Thursday (beginning April 2024) | 10AM – 2PM\n\nParticipation in The Breathing Space program is free! Pre-Registration Required to participate. Call DARTS at the number below to register. 								\n				\n				\n				\n									Call to Register: (651) 455-1560
URL:https://dartsconnects.org/event/thebreathingspace-wsp-1424/
LOCATION:Augustana Lutheran Church\, 1400 S Robert St\, West St. Paul\, MN\, 55118\, United States
CATEGORIES:Monthly Events,The Breathing Space
ATTACH;FMTTYPE=image/jpeg:https://dartsconnects.org/wp-content/uploads/2024/01/Micheal-Susan-and-Tricia-rotated-e1704390264311.jpg
END:VEVENT
END:VCALENDAR