BEGIN:VCALENDAR
VERSION:2.0
PRODID:-//DARTS - ECPv6.15.17.1//NONSGML v1.0//EN
CALSCALE:GREGORIAN
METHOD:PUBLISH
X-WR-CALNAME:DARTS
X-ORIGINAL-URL:https://dartsconnects.org
X-WR-CALDESC:Events for DARTS
REFRESH-INTERVAL;VALUE=DURATION:PT1H
X-Robots-Tag:noindex
X-PUBLISHED-TTL:PT1H
BEGIN:VTIMEZONE
TZID:America/Chicago
BEGIN:DAYLIGHT
TZOFFSETFROM:-0600
TZOFFSETTO:-0500
TZNAME:CDT
DTSTART:20240310T080000
END:DAYLIGHT
BEGIN:STANDARD
TZOFFSETFROM:-0500
TZOFFSETTO:-0600
TZNAME:CST
DTSTART:20241103T070000
END:STANDARD
BEGIN:DAYLIGHT
TZOFFSETFROM:-0600
TZOFFSETTO:-0500
TZNAME:CDT
DTSTART:20250309T080000
END:DAYLIGHT
BEGIN:STANDARD
TZOFFSETFROM:-0500
TZOFFSETTO:-0600
TZNAME:CST
DTSTART:20251102T070000
END:STANDARD
BEGIN:DAYLIGHT
TZOFFSETFROM:-0600
TZOFFSETTO:-0500
TZNAME:CDT
DTSTART:20260308T080000
END:DAYLIGHT
BEGIN:STANDARD
TZOFFSETFROM:-0500
TZOFFSETTO:-0600
TZNAME:CST
DTSTART:20261101T070000
END:STANDARD
END:VTIMEZONE
BEGIN:VEVENT
DTSTART;TZID=America/Chicago:20250206T100000
DTEND;TZID=America/Chicago:20250206T140000
DTSTAMP:20260421T163650
CREATED:20250211T145317Z
LAST-MODIFIED:20250211T145317Z
UID:13019-1738836000-1738850400@dartsconnects.org
SUMMARY:The Breathing Space - West St. Paul
DESCRIPTION:DARTS group respite\, The Breathing Space\, gives caregivers a break by providing supervision\, companionship\, and social engagement for care receivers with 4 hours of brain-stimulating activities. The program is designed for individuals with early- to mid- stage memory loss or other conditions that require some supervision. There are two locations available for group respite: This location: Easter Lutheran Church in Eagan | Every Friday  | 10AM – 2PMAugustana Lutheran Church in West St. Paul | Every Thursday  | 10AM – 2PMParticipation in The Breathing Space program is free! Pre-Registration Required to participate. Call DARTS at the number below to register. 								\n				\n				\n				\n									Call to Register: (651) 455-1560
URL:https://dartsconnects.org/event/thebreathingspace-wsp-2625/
LOCATION:Augustana Lutheran Church\, 1400 S Robert St\, West St. Paul\, MN\, 55118\, United States
CATEGORIES:Monthly Events,The Breathing Space
ATTACH;FMTTYPE=image/jpeg:https://dartsconnects.org/wp-content/uploads/2024/01/Micheal-Susan-and-Tricia-rotated-e1704390264311.jpg
END:VEVENT
BEGIN:VEVENT
DTSTART;TZID=America/Chicago:20250207T100000
DTEND;TZID=America/Chicago:20250207T140000
DTSTAMP:20260421T163650
CREATED:20250211T145815Z
LAST-MODIFIED:20250211T145815Z
UID:13035-1738922400-1738936800@dartsconnects.org
SUMMARY:The Breathing Space - Eagan
DESCRIPTION:DARTS group respite\, The Breathing Space\, gives caregivers a break by providing supervision\, companionship\, and social engagement for care receivers with 4 hours of brain-stimulating activities. The program is designed for individuals with early- to mid- stage memory loss or other conditions that require some supervision. There are two locations available for group respite: This location: Easter Lutheran Church in Eagan | Every Friday  | 10AM – 2PMAugustana Lutheran Church in West St. Paul | Every Thursday  | 10AM – 2PMParticipation in The Breathing Space program is free! Pre-Registration Required to participate. Call DARTS at the number below to register. 								\n				\n				\n				\n									Call to Register: (651) 455-1560
URL:https://dartsconnects.org/event/thebreathingspace-eagan-2725/
LOCATION:Easter Lutheran Church\, 4545 Pilot Knob Rd\, Eagan\, MN\, 55122\, United States
CATEGORIES:Monthly Events,The Breathing Space
ATTACH;FMTTYPE=image/jpeg:https://dartsconnects.org/wp-content/uploads/2023/06/Bonnie-Laura-Volunteer-Jenga-Edited.jpg
END:VEVENT
BEGIN:VEVENT
DTSTART;TZID=America/Chicago:20250213T100000
DTEND;TZID=America/Chicago:20250213T140000
DTSTAMP:20260421T163650
CREATED:20250211T145400Z
LAST-MODIFIED:20250211T145727Z
UID:13021-1739440800-1739455200@dartsconnects.org
SUMMARY:The Breathing Space - West St. Paul
DESCRIPTION:DARTS group respite\, The Breathing Space\, gives caregivers a break by providing supervision\, companionship\, and social engagement for care receivers with 4 hours of brain-stimulating activities. The program is designed for individuals with early- to mid- stage memory loss or other conditions that require some supervision. There are two locations available for group respite: This location: Easter Lutheran Church in Eagan | Every Friday  | 10AM – 2PMAugustana Lutheran Church in West St. Paul | Every Thursday  | 10AM – 2PMParticipation in The Breathing Space program is free! Pre-Registration Required to participate. Call DARTS at the number below to register. 								\n				\n				\n				\n									Call to Register: (651) 455-1560
URL:https://dartsconnects.org/event/thebreathingspace-wsp-21325/
LOCATION:Augustana Lutheran Church\, 1400 S Robert St\, West St. Paul\, MN\, 55118\, United States
CATEGORIES:Monthly Events,The Breathing Space
ATTACH;FMTTYPE=image/jpeg:https://dartsconnects.org/wp-content/uploads/2024/01/Micheal-Susan-and-Tricia-rotated-e1704390264311.jpg
END:VEVENT
BEGIN:VEVENT
DTSTART;TZID=America/Chicago:20250214T100000
DTEND;TZID=America/Chicago:20250214T140000
DTSTAMP:20260421T163650
CREATED:20250211T145846Z
LAST-MODIFIED:20250211T145846Z
UID:13037-1739527200-1739541600@dartsconnects.org
SUMMARY:The Breathing Space - Eagan
DESCRIPTION:DARTS group respite\, The Breathing Space\, gives caregivers a break by providing supervision\, companionship\, and social engagement for care receivers with 4 hours of brain-stimulating activities. The program is designed for individuals with early- to mid- stage memory loss or other conditions that require some supervision. There are two locations available for group respite: This location: Easter Lutheran Church in Eagan | Every Friday  | 10AM – 2PMAugustana Lutheran Church in West St. Paul | Every Thursday  | 10AM – 2PMParticipation in The Breathing Space program is free! Pre-Registration Required to participate. Call DARTS at the number below to register. 								\n				\n				\n				\n									Call to Register: (651) 455-1560
URL:https://dartsconnects.org/event/thebreathingspace-eagan-21425/
LOCATION:Easter Lutheran Church\, 4545 Pilot Knob Rd\, Eagan\, MN\, 55122\, United States
CATEGORIES:Monthly Events,The Breathing Space
ATTACH;FMTTYPE=image/jpeg:https://dartsconnects.org/wp-content/uploads/2023/06/Bonnie-Laura-Volunteer-Jenga-Edited.jpg
END:VEVENT
BEGIN:VEVENT
DTSTART;TZID=America/Chicago:20250220T100000
DTEND;TZID=America/Chicago:20250220T140000
DTSTAMP:20260421T163650
CREATED:20250211T145446Z
LAST-MODIFIED:20250211T145446Z
UID:13023-1740045600-1740060000@dartsconnects.org
SUMMARY:The Breathing Space - West St. Paul
DESCRIPTION:DARTS group respite\, The Breathing Space\, gives caregivers a break by providing supervision\, companionship\, and social engagement for care receivers with 4 hours of brain-stimulating activities. The program is designed for individuals with early- to mid- stage memory loss or other conditions that require some supervision. There are two locations available for group respite: This location: Easter Lutheran Church in Eagan | Every Friday  | 10AM – 2PMAugustana Lutheran Church in West St. Paul | Every Thursday  | 10AM – 2PMParticipation in The Breathing Space program is free! Pre-Registration Required to participate. Call DARTS at the number below to register. 								\n				\n				\n				\n									Call to Register: (651) 455-1560
URL:https://dartsconnects.org/event/thebreathingspace-wsp-22025/
LOCATION:Augustana Lutheran Church\, 1400 S Robert St\, West St. Paul\, MN\, 55118\, United States
CATEGORIES:Monthly Events,The Breathing Space
ATTACH;FMTTYPE=image/jpeg:https://dartsconnects.org/wp-content/uploads/2024/01/Micheal-Susan-and-Tricia-rotated-e1704390264311.jpg
END:VEVENT
BEGIN:VEVENT
DTSTART;TZID=America/Chicago:20250221T100000
DTEND;TZID=America/Chicago:20250221T140000
DTSTAMP:20260421T163650
CREATED:20250211T145918Z
LAST-MODIFIED:20250211T145918Z
UID:13039-1740132000-1740146400@dartsconnects.org
SUMMARY:The Breathing Space - Eagan
DESCRIPTION:DARTS group respite\, The Breathing Space\, gives caregivers a break by providing supervision\, companionship\, and social engagement for care receivers with 4 hours of brain-stimulating activities. The program is designed for individuals with early- to mid- stage memory loss or other conditions that require some supervision. There are two locations available for group respite: This location: Easter Lutheran Church in Eagan | Every Friday  | 10AM – 2PMAugustana Lutheran Church in West St. Paul | Every Thursday  | 10AM – 2PMParticipation in The Breathing Space program is free! Pre-Registration Required to participate. Call DARTS at the number below to register. 								\n				\n				\n				\n									Call to Register: (651) 455-1560
URL:https://dartsconnects.org/event/thebreathingspace-eagan-22125/
LOCATION:Easter Lutheran Church\, 4545 Pilot Knob Rd\, Eagan\, MN\, 55122\, United States
CATEGORIES:Monthly Events,The Breathing Space
ATTACH;FMTTYPE=image/jpeg:https://dartsconnects.org/wp-content/uploads/2023/06/Bonnie-Laura-Volunteer-Jenga-Edited.jpg
END:VEVENT
BEGIN:VEVENT
DTSTART;TZID=America/Chicago:20250227T100000
DTEND;TZID=America/Chicago:20250227T140000
DTSTAMP:20260421T163650
CREATED:20250211T145512Z
LAST-MODIFIED:20250211T145512Z
UID:13025-1740650400-1740664800@dartsconnects.org
SUMMARY:The Breathing Space - West St. Paul
DESCRIPTION:DARTS group respite\, The Breathing Space\, gives caregivers a break by providing supervision\, companionship\, and social engagement for care receivers with 4 hours of brain-stimulating activities. The program is designed for individuals with early- to mid- stage memory loss or other conditions that require some supervision. There are two locations available for group respite: This location: Easter Lutheran Church in Eagan | Every Friday  | 10AM – 2PMAugustana Lutheran Church in West St. Paul | Every Thursday  | 10AM – 2PMParticipation in The Breathing Space program is free! Pre-Registration Required to participate. Call DARTS at the number below to register. 								\n				\n				\n				\n									Call to Register: (651) 455-1560
URL:https://dartsconnects.org/event/thebreathingspace-wsp-22725/
LOCATION:Augustana Lutheran Church\, 1400 S Robert St\, West St. Paul\, MN\, 55118\, United States
CATEGORIES:Monthly Events,The Breathing Space
ATTACH;FMTTYPE=image/jpeg:https://dartsconnects.org/wp-content/uploads/2024/01/Micheal-Susan-and-Tricia-rotated-e1704390264311.jpg
END:VEVENT
BEGIN:VEVENT
DTSTART;TZID=America/Chicago:20250228T100000
DTEND;TZID=America/Chicago:20250228T140000
DTSTAMP:20260421T163650
CREATED:20250211T145954Z
LAST-MODIFIED:20250211T145954Z
UID:13042-1740736800-1740751200@dartsconnects.org
SUMMARY:The Breathing Space - Eagan
DESCRIPTION:DARTS group respite\, The Breathing Space\, gives caregivers a break by providing supervision\, companionship\, and social engagement for care receivers with 4 hours of brain-stimulating activities. The program is designed for individuals with early- to mid- stage memory loss or other conditions that require some supervision. There are two locations available for group respite: This location: Easter Lutheran Church in Eagan | Every Friday  | 10AM – 2PMAugustana Lutheran Church in West St. Paul | Every Thursday  | 10AM – 2PMParticipation in The Breathing Space program is free! Pre-Registration Required to participate. Call DARTS at the number below to register. 								\n				\n				\n				\n									Call to Register: (651) 455-1560
URL:https://dartsconnects.org/event/thebreathingspace-eagan-22825/
LOCATION:Easter Lutheran Church\, 4545 Pilot Knob Rd\, Eagan\, MN\, 55122\, United States
CATEGORIES:Monthly Events,The Breathing Space
ATTACH;FMTTYPE=image/jpeg:https://dartsconnects.org/wp-content/uploads/2023/06/Bonnie-Laura-Volunteer-Jenga-Edited.jpg
END:VEVENT
END:VCALENDAR