BEGIN:VCALENDAR
VERSION:2.0
PRODID:-//DARTS - ECPv6.15.17.1//NONSGML v1.0//EN
CALSCALE:GREGORIAN
METHOD:PUBLISH
X-WR-CALNAME:DARTS
X-ORIGINAL-URL:https://dartsconnects.org
X-WR-CALDESC:Events for DARTS
REFRESH-INTERVAL;VALUE=DURATION:PT1H
X-Robots-Tag:noindex
X-PUBLISHED-TTL:PT1H
BEGIN:VTIMEZONE
TZID:America/Chicago
BEGIN:DAYLIGHT
TZOFFSETFROM:-0600
TZOFFSETTO:-0500
TZNAME:CDT
DTSTART:20230312T080000
END:DAYLIGHT
BEGIN:STANDARD
TZOFFSETFROM:-0500
TZOFFSETTO:-0600
TZNAME:CST
DTSTART:20231105T070000
END:STANDARD
BEGIN:DAYLIGHT
TZOFFSETFROM:-0600
TZOFFSETTO:-0500
TZNAME:CDT
DTSTART:20240310T080000
END:DAYLIGHT
BEGIN:STANDARD
TZOFFSETFROM:-0500
TZOFFSETTO:-0600
TZNAME:CST
DTSTART:20241103T070000
END:STANDARD
BEGIN:DAYLIGHT
TZOFFSETFROM:-0600
TZOFFSETTO:-0500
TZNAME:CDT
DTSTART:20250309T080000
END:DAYLIGHT
BEGIN:STANDARD
TZOFFSETFROM:-0500
TZOFFSETTO:-0600
TZNAME:CST
DTSTART:20251102T070000
END:STANDARD
END:VTIMEZONE
BEGIN:VEVENT
DTSTART;TZID=America/Chicago:20241003T100000
DTEND;TZID=America/Chicago:20241003T140000
DTSTAMP:20260422T000549
CREATED:20241004T203325Z
LAST-MODIFIED:20241004T203325Z
UID:12415-1727949600-1727964000@dartsconnects.org
SUMMARY:The Breathing Space - West St. Paul
DESCRIPTION:DARTS group respite\, The Breathing Space\, gives caregivers a break by providing supervision\, companionship\, and social engagement for care receivers with 4 hours of brain-stimulating activities. The program is designed for individuals with early- to mid- stage memory loss or other conditions that require some supervision. There are two locations available for group respite: This location: Easter Lutheran Church in Eagan | Every Friday  | 10AM – 2PMAugustana Lutheran Church in West St. Paul | Every Thursday  | 10AM – 2PMParticipation in The Breathing Space program is free! Pre-Registration Required to participate. Call DARTS at the number below to register. 								\n				\n				\n				\n									Call to Register: (651) 455-1560
URL:https://dartsconnects.org/event/thebreathingspace-wsp-10324/
LOCATION:Augustana Lutheran Church\, 1400 S Robert St\, West St. Paul\, MN\, 55118\, United States
CATEGORIES:Monthly Events,The Breathing Space
ATTACH;FMTTYPE=image/jpeg:https://dartsconnects.org/wp-content/uploads/2024/01/Micheal-Susan-and-Tricia-rotated-e1704390264311.jpg
END:VEVENT
BEGIN:VEVENT
DTSTART;TZID=America/Chicago:20241010T100000
DTEND;TZID=America/Chicago:20241010T140000
DTSTAMP:20260422T000549
CREATED:20241004T203357Z
LAST-MODIFIED:20241004T203357Z
UID:12417-1728554400-1728568800@dartsconnects.org
SUMMARY:The Breathing Space - West St. Paul
DESCRIPTION:DARTS group respite\, The Breathing Space\, gives caregivers a break by providing supervision\, companionship\, and social engagement for care receivers with 4 hours of brain-stimulating activities. The program is designed for individuals with early- to mid- stage memory loss or other conditions that require some supervision. There are two locations available for group respite: This location: Easter Lutheran Church in Eagan | Every Friday  | 10AM – 2PMAugustana Lutheran Church in West St. Paul | Every Thursday  | 10AM – 2PMParticipation in The Breathing Space program is free! Pre-Registration Required to participate. Call DARTS at the number below to register. 								\n				\n				\n				\n									Call to Register: (651) 455-1560
URL:https://dartsconnects.org/event/thebreathingspace-wsp-101024/
LOCATION:Augustana Lutheran Church\, 1400 S Robert St\, West St. Paul\, MN\, 55118\, United States
CATEGORIES:Monthly Events,The Breathing Space
ATTACH;FMTTYPE=image/jpeg:https://dartsconnects.org/wp-content/uploads/2024/01/Micheal-Susan-and-Tricia-rotated-e1704390264311.jpg
END:VEVENT
BEGIN:VEVENT
DTSTART;TZID=America/Chicago:20241011T100000
DTEND;TZID=America/Chicago:20241011T140000
DTSTAMP:20260422T000549
CREATED:20241004T203743Z
LAST-MODIFIED:20241004T203743Z
UID:12429-1728640800-1728655200@dartsconnects.org
SUMMARY:The Breathing Space - Eagan
DESCRIPTION:DARTS group respite\, The Breathing Space\, gives caregivers a break by providing supervision\, companionship\, and social engagement for care receivers with 4 hours of brain-stimulating activities. The program is designed for individuals with early- to mid- stage memory loss or other conditions that require some supervision. There are two locations available for group respite: This location: Easter Lutheran Church in Eagan | Every Friday  | 10AM – 2PMAugustana Lutheran Church in West St. Paul | Every Thursday  | 10AM – 2PMParticipation in The Breathing Space program is free! Pre-Registration Required to participate. Call DARTS at the number below to register. 								\n				\n				\n				\n									Call to Register: (651) 455-1560
URL:https://dartsconnects.org/event/thebreathingspace-eagan-101124/
LOCATION:Easter Lutheran Church\, 4545 Pilot Knob Rd\, Eagan\, MN\, 55122\, United States
CATEGORIES:Monthly Events,The Breathing Space
ATTACH;FMTTYPE=image/jpeg:https://dartsconnects.org/wp-content/uploads/2023/06/Bonnie-Laura-Volunteer-Jenga-Edited.jpg
END:VEVENT
BEGIN:VEVENT
DTSTART;TZID=America/Chicago:20241017T100000
DTEND;TZID=America/Chicago:20241017T140000
DTSTAMP:20260422T000549
CREATED:20241004T203427Z
LAST-MODIFIED:20241004T203427Z
UID:12419-1729159200-1729173600@dartsconnects.org
SUMMARY:The Breathing Space - West St. Paul
DESCRIPTION:DARTS group respite\, The Breathing Space\, gives caregivers a break by providing supervision\, companionship\, and social engagement for care receivers with 4 hours of brain-stimulating activities. The program is designed for individuals with early- to mid- stage memory loss or other conditions that require some supervision. There are two locations available for group respite: This location: Easter Lutheran Church in Eagan | Every Friday  | 10AM – 2PMAugustana Lutheran Church in West St. Paul | Every Thursday  | 10AM – 2PMParticipation in The Breathing Space program is free! Pre-Registration Required to participate. Call DARTS at the number below to register. 								\n				\n				\n				\n									Call to Register: (651) 455-1560
URL:https://dartsconnects.org/event/thebreathingspace-wsp-101724/
LOCATION:Augustana Lutheran Church\, 1400 S Robert St\, West St. Paul\, MN\, 55118\, United States
CATEGORIES:Monthly Events,The Breathing Space
ATTACH;FMTTYPE=image/jpeg:https://dartsconnects.org/wp-content/uploads/2024/01/Micheal-Susan-and-Tricia-rotated-e1704390264311.jpg
END:VEVENT
BEGIN:VEVENT
DTSTART;TZID=America/Chicago:20241018T100000
DTEND;TZID=America/Chicago:20241018T140000
DTSTAMP:20260422T000549
CREATED:20241004T203815Z
LAST-MODIFIED:20241004T203815Z
UID:12431-1729245600-1729260000@dartsconnects.org
SUMMARY:The Breathing Space - Eagan
DESCRIPTION:DARTS group respite\, The Breathing Space\, gives caregivers a break by providing supervision\, companionship\, and social engagement for care receivers with 4 hours of brain-stimulating activities. The program is designed for individuals with early- to mid- stage memory loss or other conditions that require some supervision. There are two locations available for group respite: This location: Easter Lutheran Church in Eagan | Every Friday  | 10AM – 2PMAugustana Lutheran Church in West St. Paul | Every Thursday  | 10AM – 2PMParticipation in The Breathing Space program is free! Pre-Registration Required to participate. Call DARTS at the number below to register. 								\n				\n				\n				\n									Call to Register: (651) 455-1560
URL:https://dartsconnects.org/event/thebreathingspace-eagan-101824/
LOCATION:Easter Lutheran Church\, 4545 Pilot Knob Rd\, Eagan\, MN\, 55122\, United States
CATEGORIES:Monthly Events,The Breathing Space
ATTACH;FMTTYPE=image/jpeg:https://dartsconnects.org/wp-content/uploads/2023/06/Bonnie-Laura-Volunteer-Jenga-Edited.jpg
END:VEVENT
BEGIN:VEVENT
DTSTART;TZID=America/Chicago:20241025T100000
DTEND;TZID=America/Chicago:20241025T140000
DTSTAMP:20260422T000549
CREATED:20241004T203847Z
LAST-MODIFIED:20241004T203847Z
UID:12433-1729850400-1729864800@dartsconnects.org
SUMMARY:The Breathing Space - Eagan
DESCRIPTION:DARTS group respite\, The Breathing Space\, gives caregivers a break by providing supervision\, companionship\, and social engagement for care receivers with 4 hours of brain-stimulating activities. The program is designed for individuals with early- to mid- stage memory loss or other conditions that require some supervision. There are two locations available for group respite: This location: Easter Lutheran Church in Eagan | Every Friday  | 10AM – 2PMAugustana Lutheran Church in West St. Paul | Every Thursday  | 10AM – 2PMParticipation in The Breathing Space program is free! Pre-Registration Required to participate. Call DARTS at the number below to register. 								\n				\n				\n				\n									Call to Register: (651) 455-1560
URL:https://dartsconnects.org/event/thebreathingspace-eagan-102524/
LOCATION:Easter Lutheran Church\, 4545 Pilot Knob Rd\, Eagan\, MN\, 55122\, United States
CATEGORIES:Monthly Events,The Breathing Space
ATTACH;FMTTYPE=image/jpeg:https://dartsconnects.org/wp-content/uploads/2023/06/Bonnie-Laura-Volunteer-Jenga-Edited.jpg
END:VEVENT
BEGIN:VEVENT
DTSTART;TZID=America/Chicago:20241031T100000
DTEND;TZID=America/Chicago:20241031T140000
DTSTAMP:20260422T000549
CREATED:20241004T203508Z
LAST-MODIFIED:20241004T203508Z
UID:12421-1730368800-1730383200@dartsconnects.org
SUMMARY:The Breathing Space - West St. Paul
DESCRIPTION:DARTS group respite\, The Breathing Space\, gives caregivers a break by providing supervision\, companionship\, and social engagement for care receivers with 4 hours of brain-stimulating activities. The program is designed for individuals with early- to mid- stage memory loss or other conditions that require some supervision. There are two locations available for group respite: This location: Easter Lutheran Church in Eagan | Every Friday  | 10AM – 2PMAugustana Lutheran Church in West St. Paul | Every Thursday  | 10AM – 2PMParticipation in The Breathing Space program is free! Pre-Registration Required to participate. Call DARTS at the number below to register. 								\n				\n				\n				\n									Call to Register: (651) 455-1560
URL:https://dartsconnects.org/event/thebreathingspace-wsp-103124/
LOCATION:Augustana Lutheran Church\, 1400 S Robert St\, West St. Paul\, MN\, 55118\, United States
CATEGORIES:Monthly Events,The Breathing Space
ATTACH;FMTTYPE=image/jpeg:https://dartsconnects.org/wp-content/uploads/2024/01/Micheal-Susan-and-Tricia-rotated-e1704390264311.jpg
END:VEVENT
END:VCALENDAR