BEGIN:VCALENDAR
VERSION:2.0
PRODID:-//DARTS - ECPv6.15.17.1//NONSGML v1.0//EN
CALSCALE:GREGORIAN
METHOD:PUBLISH
X-ORIGINAL-URL:https://dartsconnects.org
X-WR-CALDESC:Events for DARTS
REFRESH-INTERVAL;VALUE=DURATION:PT1H
X-Robots-Tag:noindex
X-PUBLISHED-TTL:PT1H
BEGIN:VTIMEZONE
TZID:America/Chicago
BEGIN:DAYLIGHT
TZOFFSETFROM:-0600
TZOFFSETTO:-0500
TZNAME:CDT
DTSTART:20230312T080000
END:DAYLIGHT
BEGIN:STANDARD
TZOFFSETFROM:-0500
TZOFFSETTO:-0600
TZNAME:CST
DTSTART:20231105T070000
END:STANDARD
BEGIN:DAYLIGHT
TZOFFSETFROM:-0600
TZOFFSETTO:-0500
TZNAME:CDT
DTSTART:20240310T080000
END:DAYLIGHT
BEGIN:STANDARD
TZOFFSETFROM:-0500
TZOFFSETTO:-0600
TZNAME:CST
DTSTART:20241103T070000
END:STANDARD
BEGIN:DAYLIGHT
TZOFFSETFROM:-0600
TZOFFSETTO:-0500
TZNAME:CDT
DTSTART:20250309T080000
END:DAYLIGHT
BEGIN:STANDARD
TZOFFSETFROM:-0500
TZOFFSETTO:-0600
TZNAME:CST
DTSTART:20251102T070000
END:STANDARD
END:VTIMEZONE
BEGIN:VEVENT
DTSTART;TZID=America/Chicago:20240905T100000
DTEND;TZID=America/Chicago:20240905T140000
DTSTAMP:20260422T032711
CREATED:20240806T134203Z
LAST-MODIFIED:20240806T134203Z
UID:11970-1725530400-1725544800@dartsconnects.org
SUMMARY:The Breathing Space - West St. Paul
DESCRIPTION:DARTS group respite\, The Breathing Space\, gives caregivers a break by providing supervision\, companionship\, and social engagement for care receivers with 4 hours of brain-stimulating activities. The program is designed for individuals with early- to mid- stage memory loss or other conditions that require some supervision. There are two locations available for group respite: This location: Easter Lutheran Church in Eagan | Every Friday  | 10AM – 2PMAugustana Lutheran Church in West St. Paul | Every Thursday  | 10AM – 2PMParticipation in The Breathing Space program is free! Pre-Registration Required to participate. Call DARTS at the number below to register. 								\n				\n				\n				\n									Call to Register: (651) 455-1560
URL:https://dartsconnects.org/event/thebreathingspace-wsp-9524/
LOCATION:Augustana Lutheran Church\, 1400 S Robert St\, West St. Paul\, MN\, 55118\, United States
CATEGORIES:Monthly Events,The Breathing Space
ATTACH;FMTTYPE=image/jpeg:https://dartsconnects.org/wp-content/uploads/2024/01/Micheal-Susan-and-Tricia-rotated-e1704390264311.jpg
END:VEVENT
BEGIN:VEVENT
DTSTART;TZID=America/Chicago:20240906T100000
DTEND;TZID=America/Chicago:20240906T140000
DTSTAMP:20260422T032711
CREATED:20240806T133654Z
LAST-MODIFIED:20240806T133654Z
UID:11954-1725616800-1725631200@dartsconnects.org
SUMMARY:The Breathing Space - Eagan
DESCRIPTION:DARTS group respite\, The Breathing Space\, gives caregivers a break by providing supervision\, companionship\, and social engagement for care receivers with 4 hours of brain-stimulating activities. The program is designed for individuals with early- to mid- stage memory loss or other conditions that require some supervision. There are two locations available for group respite: This location: Easter Lutheran Church in Eagan | Every Friday  | 10AM – 2PMAugustana Lutheran Church in West St. Paul | Every Thursday  | 10AM – 2PMParticipation in The Breathing Space program is free! Pre-Registration Required to participate. Call DARTS at the number below to register. 								\n				\n				\n				\n									Call to Register: (651) 455-1560
URL:https://dartsconnects.org/event/thebreathingspace-eagan-9624/
LOCATION:Easter Lutheran Church\, 4545 Pilot Knob Rd\, Eagan\, MN\, 55122\, United States
CATEGORIES:Monthly Events,The Breathing Space
ATTACH;FMTTYPE=image/jpeg:https://dartsconnects.org/wp-content/uploads/2023/06/Bonnie-Laura-Volunteer-Jenga-Edited.jpg
END:VEVENT
BEGIN:VEVENT
DTSTART;TZID=America/Chicago:20240912T100000
DTEND;TZID=America/Chicago:20240912T140000
DTSTAMP:20260422T032711
CREATED:20240806T134239Z
LAST-MODIFIED:20240806T134239Z
UID:11972-1726135200-1726149600@dartsconnects.org
SUMMARY:The Breathing Space - West St. Paul
DESCRIPTION:DARTS group respite\, The Breathing Space\, gives caregivers a break by providing supervision\, companionship\, and social engagement for care receivers with 4 hours of brain-stimulating activities. The program is designed for individuals with early- to mid- stage memory loss or other conditions that require some supervision. There are two locations available for group respite: This location: Easter Lutheran Church in Eagan | Every Friday  | 10AM – 2PMAugustana Lutheran Church in West St. Paul | Every Thursday  | 10AM – 2PMParticipation in The Breathing Space program is free! Pre-Registration Required to participate. Call DARTS at the number below to register. 								\n				\n				\n				\n									Call to Register: (651) 455-1560
URL:https://dartsconnects.org/event/thebreathingspace-wsp-91224/
LOCATION:Augustana Lutheran Church\, 1400 S Robert St\, West St. Paul\, MN\, 55118\, United States
CATEGORIES:Monthly Events,The Breathing Space
ATTACH;FMTTYPE=image/jpeg:https://dartsconnects.org/wp-content/uploads/2024/01/Micheal-Susan-and-Tricia-rotated-e1704390264311.jpg
END:VEVENT
BEGIN:VEVENT
DTSTART;TZID=America/Chicago:20240913T100000
DTEND;TZID=America/Chicago:20240913T140000
DTSTAMP:20260422T032711
CREATED:20240806T133725Z
LAST-MODIFIED:20240806T133725Z
UID:11956-1726221600-1726236000@dartsconnects.org
SUMMARY:The Breathing Space - Eagan
DESCRIPTION:DARTS group respite\, The Breathing Space\, gives caregivers a break by providing supervision\, companionship\, and social engagement for care receivers with 4 hours of brain-stimulating activities. The program is designed for individuals with early- to mid- stage memory loss or other conditions that require some supervision. There are two locations available for group respite: This location: Easter Lutheran Church in Eagan | Every Friday  | 10AM – 2PMAugustana Lutheran Church in West St. Paul | Every Thursday  | 10AM – 2PMParticipation in The Breathing Space program is free! Pre-Registration Required to participate. Call DARTS at the number below to register. 								\n				\n				\n				\n									Call to Register: (651) 455-1560
URL:https://dartsconnects.org/event/thebreathingspace-eagan-91324/
LOCATION:Easter Lutheran Church\, 4545 Pilot Knob Rd\, Eagan\, MN\, 55122\, United States
CATEGORIES:Monthly Events,The Breathing Space
ATTACH;FMTTYPE=image/jpeg:https://dartsconnects.org/wp-content/uploads/2023/06/Bonnie-Laura-Volunteer-Jenga-Edited.jpg
END:VEVENT
BEGIN:VEVENT
DTSTART;TZID=America/Chicago:20240919T100000
DTEND;TZID=America/Chicago:20240919T140000
DTSTAMP:20260422T032711
CREATED:20240806T134306Z
LAST-MODIFIED:20240806T134306Z
UID:11974-1726740000-1726754400@dartsconnects.org
SUMMARY:The Breathing Space - West St. Paul
DESCRIPTION:DARTS group respite\, The Breathing Space\, gives caregivers a break by providing supervision\, companionship\, and social engagement for care receivers with 4 hours of brain-stimulating activities. The program is designed for individuals with early- to mid- stage memory loss or other conditions that require some supervision. There are two locations available for group respite: This location: Easter Lutheran Church in Eagan | Every Friday  | 10AM – 2PMAugustana Lutheran Church in West St. Paul | Every Thursday  | 10AM – 2PMParticipation in The Breathing Space program is free! Pre-Registration Required to participate. Call DARTS at the number below to register. 								\n				\n				\n				\n									Call to Register: (651) 455-1560
URL:https://dartsconnects.org/event/thebreathingspace-wsp-91924/
LOCATION:Augustana Lutheran Church\, 1400 S Robert St\, West St. Paul\, MN\, 55118\, United States
CATEGORIES:Monthly Events,The Breathing Space
ATTACH;FMTTYPE=image/jpeg:https://dartsconnects.org/wp-content/uploads/2024/01/Micheal-Susan-and-Tricia-rotated-e1704390264311.jpg
END:VEVENT
BEGIN:VEVENT
DTSTART;TZID=America/Chicago:20240920T100000
DTEND;TZID=America/Chicago:20240920T140000
DTSTAMP:20260422T032711
CREATED:20240806T133822Z
LAST-MODIFIED:20240806T133822Z
UID:11958-1726826400-1726840800@dartsconnects.org
SUMMARY:The Breathing Space - Eagan
DESCRIPTION:DARTS group respite\, The Breathing Space\, gives caregivers a break by providing supervision\, companionship\, and social engagement for care receivers with 4 hours of brain-stimulating activities. The program is designed for individuals with early- to mid- stage memory loss or other conditions that require some supervision. There are two locations available for group respite: This location: Easter Lutheran Church in Eagan | Every Friday  | 10AM – 2PMAugustana Lutheran Church in West St. Paul | Every Thursday  | 10AM – 2PMParticipation in The Breathing Space program is free! Pre-Registration Required to participate. Call DARTS at the number below to register. 								\n				\n				\n				\n									Call to Register: (651) 455-1560
URL:https://dartsconnects.org/event/thebreathingspace-eagan-92024/
LOCATION:Easter Lutheran Church\, 4545 Pilot Knob Rd\, Eagan\, MN\, 55122\, United States
CATEGORIES:Monthly Events,The Breathing Space
ATTACH;FMTTYPE=image/jpeg:https://dartsconnects.org/wp-content/uploads/2023/06/Bonnie-Laura-Volunteer-Jenga-Edited.jpg
END:VEVENT
BEGIN:VEVENT
DTSTART;TZID=America/Chicago:20240926T100000
DTEND;TZID=America/Chicago:20240926T140000
DTSTAMP:20260422T032711
CREATED:20240806T134342Z
LAST-MODIFIED:20240806T134342Z
UID:11976-1727344800-1727359200@dartsconnects.org
SUMMARY:The Breathing Space - West St. Paul
DESCRIPTION:DARTS group respite\, The Breathing Space\, gives caregivers a break by providing supervision\, companionship\, and social engagement for care receivers with 4 hours of brain-stimulating activities. The program is designed for individuals with early- to mid- stage memory loss or other conditions that require some supervision. There are two locations available for group respite: This location: Easter Lutheran Church in Eagan | Every Friday  | 10AM – 2PMAugustana Lutheran Church in West St. Paul | Every Thursday  | 10AM – 2PMParticipation in The Breathing Space program is free! Pre-Registration Required to participate. Call DARTS at the number below to register. 								\n				\n				\n				\n									Call to Register: (651) 455-1560
URL:https://dartsconnects.org/event/thebreathingspace-wsp-92624/
LOCATION:Augustana Lutheran Church\, 1400 S Robert St\, West St. Paul\, MN\, 55118\, United States
CATEGORIES:Monthly Events,The Breathing Space
ATTACH;FMTTYPE=image/jpeg:https://dartsconnects.org/wp-content/uploads/2024/01/Micheal-Susan-and-Tricia-rotated-e1704390264311.jpg
END:VEVENT
BEGIN:VEVENT
DTSTART;TZID=America/Chicago:20240927T100000
DTEND;TZID=America/Chicago:20240927T140000
DTSTAMP:20260422T032711
CREATED:20240806T133916Z
LAST-MODIFIED:20240806T133916Z
UID:11960-1727431200-1727445600@dartsconnects.org
SUMMARY:The Breathing Space - Eagan
DESCRIPTION:DARTS group respite\, The Breathing Space\, gives caregivers a break by providing supervision\, companionship\, and social engagement for care receivers with 4 hours of brain-stimulating activities. The program is designed for individuals with early- to mid- stage memory loss or other conditions that require some supervision. There are two locations available for group respite: This location: Easter Lutheran Church in Eagan | Every Friday  | 10AM – 2PMAugustana Lutheran Church in West St. Paul | Every Thursday  | 10AM – 2PMParticipation in The Breathing Space program is free! Pre-Registration Required to participate. Call DARTS at the number below to register. 								\n				\n				\n				\n									Call to Register: (651) 455-1560
URL:https://dartsconnects.org/event/thebreathingspace-eagan-92724/
LOCATION:Easter Lutheran Church\, 4545 Pilot Knob Rd\, Eagan\, MN\, 55122\, United States
CATEGORIES:Monthly Events,The Breathing Space
ATTACH;FMTTYPE=image/jpeg:https://dartsconnects.org/wp-content/uploads/2023/06/Bonnie-Laura-Volunteer-Jenga-Edited.jpg
END:VEVENT
END:VCALENDAR