BEGIN:VCALENDAR
VERSION:2.0
PRODID:-//DARTS - ECPv6.15.17.1//NONSGML v1.0//EN
CALSCALE:GREGORIAN
METHOD:PUBLISH
X-WR-CALNAME:DARTS
X-ORIGINAL-URL:https://dartsconnects.org
X-WR-CALDESC:Events for DARTS
REFRESH-INTERVAL;VALUE=DURATION:PT1H
X-Robots-Tag:noindex
X-PUBLISHED-TTL:PT1H
BEGIN:VTIMEZONE
TZID:America/Chicago
BEGIN:DAYLIGHT
TZOFFSETFROM:-0600
TZOFFSETTO:-0500
TZNAME:CDT
DTSTART:20240310T080000
END:DAYLIGHT
BEGIN:STANDARD
TZOFFSETFROM:-0500
TZOFFSETTO:-0600
TZNAME:CST
DTSTART:20241103T070000
END:STANDARD
BEGIN:DAYLIGHT
TZOFFSETFROM:-0600
TZOFFSETTO:-0500
TZNAME:CDT
DTSTART:20250309T080000
END:DAYLIGHT
BEGIN:STANDARD
TZOFFSETFROM:-0500
TZOFFSETTO:-0600
TZNAME:CST
DTSTART:20251102T070000
END:STANDARD
BEGIN:DAYLIGHT
TZOFFSETFROM:-0600
TZOFFSETTO:-0500
TZNAME:CDT
DTSTART:20260308T080000
END:DAYLIGHT
BEGIN:STANDARD
TZOFFSETFROM:-0500
TZOFFSETTO:-0600
TZNAME:CST
DTSTART:20261101T070000
END:STANDARD
END:VTIMEZONE
BEGIN:VEVENT
DTSTART;TZID=America/Chicago:20251008T130000
DTEND;TZID=America/Chicago:20251008T140000
DTSTAMP:20260422T174837
CREATED:20250827T165223Z
LAST-MODIFIED:20251007T144441Z
UID:13830-1759928400-1759932000@dartsconnects.org
SUMMARY:Rainbow Seniors
DESCRIPTION:Join Rainbow Seniors!LGBTQ+ Adults 55+ This welcoming group is for LGBTQ+ older adults who want to make new friends\, share stories\, and hangout. Details: Where: 1645 Marthaler Lane\, West St. Paul\, MN 55118\, DARTS OfficeWhen: Second Wednesday of Every Month from 1-3pmCost: FreeLight refreshments provided								\n				\n				\n				\n									Interested in learning more? Contact Tabatha!Email: tabatha.barrett@darts1.org  Phone: 651-234-2248 								\n				\n					\n		\n					\n		\n				\n						\n					\n			\n						\n						\n					\n			\n						\n				\n									Sponsored by:
URL:https://dartsconnects.org/event/rainbow-seniors/
LOCATION:DARTS Office\, 1645 Marthaler Lane\, West St. Paul\, MN\, 55118\, United States
CATEGORIES:Community Event,Monthly Events,Rainbow Seniors
ATTACH;FMTTYPE=image/jpeg:https://dartsconnects.org/wp-content/uploads/2025/08/Rainbow-1536-x-864-px.jpg
ORGANIZER;CN="SSP4ALL":MAILTO:info@ssp4all.org
END:VEVENT
END:VCALENDAR