BEGIN:VCALENDAR
VERSION:2.0
PRODID:-//DARTS - ECPv6.15.20//NONSGML v1.0//EN
CALSCALE:GREGORIAN
METHOD:PUBLISH
X-WR-CALNAME:DARTS
X-ORIGINAL-URL:https://dartsconnects.org
X-WR-CALDESC:Events for DARTS
REFRESH-INTERVAL;VALUE=DURATION:PT1H
X-Robots-Tag:noindex
X-PUBLISHED-TTL:PT1H
BEGIN:VTIMEZONE
TZID:America/Chicago
BEGIN:DAYLIGHT
TZOFFSETFROM:-0600
TZOFFSETTO:-0500
TZNAME:CDT
DTSTART:20220313T080000
END:DAYLIGHT
BEGIN:STANDARD
TZOFFSETFROM:-0500
TZOFFSETTO:-0600
TZNAME:CST
DTSTART:20221106T070000
END:STANDARD
BEGIN:DAYLIGHT
TZOFFSETFROM:-0600
TZOFFSETTO:-0500
TZNAME:CDT
DTSTART:20230312T080000
END:DAYLIGHT
BEGIN:STANDARD
TZOFFSETFROM:-0500
TZOFFSETTO:-0600
TZNAME:CST
DTSTART:20231105T070000
END:STANDARD
BEGIN:DAYLIGHT
TZOFFSETFROM:-0600
TZOFFSETTO:-0500
TZNAME:CDT
DTSTART:20240310T080000
END:DAYLIGHT
BEGIN:STANDARD
TZOFFSETFROM:-0500
TZOFFSETTO:-0600
TZNAME:CST
DTSTART:20241103T070000
END:STANDARD
BEGIN:DAYLIGHT
TZOFFSETFROM:-0600
TZOFFSETTO:-0500
TZNAME:CDT
DTSTART:20250309T080000
END:DAYLIGHT
BEGIN:STANDARD
TZOFFSETFROM:-0500
TZOFFSETTO:-0600
TZNAME:CST
DTSTART:20251102T070000
END:STANDARD
BEGIN:DAYLIGHT
TZOFFSETFROM:-0600
TZOFFSETTO:-0500
TZNAME:CDT
DTSTART:20260308T080000
END:DAYLIGHT
BEGIN:STANDARD
TZOFFSETFROM:-0500
TZOFFSETTO:-0600
TZNAME:CST
DTSTART:20261101T070000
END:STANDARD
END:VTIMEZONE
BEGIN:VEVENT
DTSTART;TZID=America/Chicago:20250925T173000
DTEND;TZID=America/Chicago:20250925T193000
DTSTAMP:20260425T162916
CREATED:20250502T185923Z
LAST-MODIFIED:20251022T201355Z
UID:13381-1758821400-1758828600@dartsconnects.org
SUMMARY:P(art)y It Forward
DESCRIPTION:Thanks for joining us at  P(art)y It Forward 2025!Thursday\, September 25\, 20255:30 – 7:30pmThe Confluence Hotel\, HastingsJoin us for an exclusive one-night-only exhibit and auction to celebrate creativity\, connection\, and community. Through an evening of local art\, meaningful conversation\, creative activities\, and good food\, we are building a community where all people can age well. We believe art has the power to spark conversations\, connect generations\, and illuminate the vibrant\, diverse experiences of growing older. Local artists who share our vision have let their creativity flourish and share their pieces tonight – with all being auctioned off to empower older adults and caregivers across the Twin Cities Southeast Metro. Share our vision – and your gifts – and come together to honor thebeauty\, wisdom\, and journey of aging with us.								\n				\n					\n		\n					\n		\n				\n						\n					\n			\n						\n				\n							\n			\n						\n		\n						\n				\n				\n				\n									Thank you to our 2025 sponsors!								\n				\n					\n		\n					\n		\n				\n						\n					\n			\n						\n				\n									Visionary Sponsor								\n				\n					\n		\n					\n		\n				\n						\n					\n			\n						\n				\n																\n															\n															\n				\n					\n		\n					\n		\n				\n						\n					\n			\n						\n				\n									Gold Sponsors								\n				\n					\n		\n					\n		\n				\n						\n					\n			\n						\n				\n																\n															\n															\n				\n					\n		\n				\n			\n						\n				\n																\n															\n															\n				\n					\n		\n					\n		\n				\n						\n					\n			\n						\n				\n																														\n				\n					\n		\n				\n			\n						\n				\n																\n															\n															\n				\n					\n		\n					\n		\n				\n						\n					\n			\n						\n				\n									Silver Sponsors								\n				\n					\n		\n					\n		\n				\n						\n					\n			\n						\n				\n																														\n				\n					\n		\n				\n			\n						\n				\n									Michele & Mark Engdahl								\n				\n					\n		\n				\n			\n						\n				\n																														\n				\n					\n		\n					\n		\n				\n						\n					\n			\n						\n				\n							\n			\n						\n		\n						\n				\n				\n				\n									Questions?Reach out to DARTS at marketing@darts1.org or 651-455-1560.
URL:https://dartsconnects.org/event/party-it-forward-2025/
LOCATION:The Confluence Hotel\, 200 2nd St W\, Hastings\, MN\, 55033\, United States
CATEGORIES:Party It Forward
ATTACH;FMTTYPE=image/jpeg:https://dartsconnects.org/wp-content/uploads/2025/05/Art-Exhibit-Look-1.jpg
END:VEVENT
BEGIN:VEVENT
DTSTART;TZID=America/Chicago:20231019T170000
DTEND;TZID=America/Chicago:20231019T190000
DTSTAMP:20260425T162916
CREATED:20210616T144730Z
LAST-MODIFIED:20240104T173140Z
UID:1401-1697734800-1697742000@dartsconnects.org
SUMMARY:Party It Forward
DESCRIPTION:Thanks for joining us at  P(art)y It Forward 2025!Thursday\, September 25\, 20255:30 – 7:30pmThe Confluence Hotel\, HastingsJoin us for an exclusive one-night-only exhibit and auction to celebrate creativity\, connection\, and community. Through an evening of local art\, meaningful conversation\, creative activities\, and good food\, we are building a community where all people can age well. We believe art has the power to spark conversations\, connect generations\, and illuminate the vibrant\, diverse experiences of growing older. Local artists who share our vision have let their creativity flourish and share their pieces tonight – with all being auctioned off to empower older adults and caregivers across the Twin Cities Southeast Metro. Share our vision – and your gifts – and come together to honor thebeauty\, wisdom\, and journey of aging with us.								\n				\n					\n		\n					\n		\n				\n						\n					\n			\n						\n				\n							\n			\n						\n		\n						\n				\n				\n				\n									Thank you to our 2025 sponsors!								\n				\n					\n		\n					\n		\n				\n						\n					\n			\n						\n				\n									Visionary Sponsor								\n				\n					\n		\n					\n		\n				\n						\n					\n			\n						\n				\n																\n															\n															\n				\n					\n		\n					\n		\n				\n						\n					\n			\n						\n				\n									Gold Sponsors								\n				\n					\n		\n					\n		\n				\n						\n					\n			\n						\n				\n																\n															\n															\n				\n					\n		\n				\n			\n						\n				\n																\n															\n															\n				\n					\n		\n					\n		\n				\n						\n					\n			\n						\n				\n																														\n				\n					\n		\n				\n			\n						\n				\n																\n															\n															\n				\n					\n		\n					\n		\n				\n						\n					\n			\n						\n				\n									Silver Sponsors								\n				\n					\n		\n					\n		\n				\n						\n					\n			\n						\n				\n																														\n				\n					\n		\n				\n			\n						\n				\n									Michele & Mark Engdahl								\n				\n					\n		\n				\n			\n						\n				\n																														\n				\n					\n		\n					\n		\n				\n						\n					\n			\n						\n				\n							\n			\n						\n		\n						\n				\n				\n				\n									Questions?Reach out to DARTS at marketing@darts1.org or 651-455-1560.
URL:https://dartsconnects.org/event/party-it-forward/
LOCATION:Southview Country Club\, 239 Mendota Rd E\, West St. Paul\, MN\, 55118\, United States
CATEGORIES:Party It Forward
ATTACH;FMTTYPE=image/jpeg:https://dartsconnects.org/wp-content/uploads/2021/06/2023-PIF-Website-Featured-Image.jpg
END:VEVENT
END:VCALENDAR