BEGIN:VCALENDAR
VERSION:2.0
PRODID:-//DARTS - ECPv6.15.17.1//NONSGML v1.0//EN
CALSCALE:GREGORIAN
METHOD:PUBLISH
X-ORIGINAL-URL:https://dartsconnects.org
X-WR-CALDESC:Events for DARTS
REFRESH-INTERVAL;VALUE=DURATION:PT1H
X-Robots-Tag:noindex
X-PUBLISHED-TTL:PT1H
BEGIN:VTIMEZONE
TZID:America/Chicago
BEGIN:DAYLIGHT
TZOFFSETFROM:-0600
TZOFFSETTO:-0500
TZNAME:CDT
DTSTART:20230312T080000
END:DAYLIGHT
BEGIN:STANDARD
TZOFFSETFROM:-0500
TZOFFSETTO:-0600
TZNAME:CST
DTSTART:20231105T070000
END:STANDARD
BEGIN:DAYLIGHT
TZOFFSETFROM:-0600
TZOFFSETTO:-0500
TZNAME:CDT
DTSTART:20240310T080000
END:DAYLIGHT
BEGIN:STANDARD
TZOFFSETFROM:-0500
TZOFFSETTO:-0600
TZNAME:CST
DTSTART:20241103T070000
END:STANDARD
BEGIN:DAYLIGHT
TZOFFSETFROM:-0600
TZOFFSETTO:-0500
TZNAME:CDT
DTSTART:20250309T080000
END:DAYLIGHT
BEGIN:STANDARD
TZOFFSETFROM:-0500
TZOFFSETTO:-0600
TZNAME:CST
DTSTART:20251102T070000
END:STANDARD
END:VTIMEZONE
BEGIN:VEVENT
DTSTART;TZID=America/Chicago:20240308T140000
DTEND;TZID=America/Chicago:20240308T150000
DTSTAMP:20260422T080847
CREATED:20240122T195602Z
LAST-MODIFIED:20240123T161514Z
UID:10817-1709906400-1709910000@dartsconnects.org
SUMMARY:Gender & Sexuality 101
DESCRIPTION:¡Venga a una hora social gratuito para hispanohablantes mayores de 60 años!Venga a la oficina de DARTS en West St. Paul para una hora social gratuito para hispanohablantes en la comunidad mayores de 60 años. Hay muchas fechas – Asista a una\, dos\, o todas. Tome un café\, coma\, haga un amigo/a/e\, y ¡diviértase! Las detallesHora: 2:00 pm a 4:00 pmFechas: 2° y 4° lunes de cada mesLugar: La oficina de DARTS\, 1645 Marthaler Lane West St. Paul\, MN 55118No es necesario registrarse. Transporte puede ser disponible. 								\n				\n				\n				\n									Llame con preguntas: (651) 234-2251								\n				\n					\n		\n					\n		\n				\n						\n					\n			\n						\n				\n																														\n				\n					\n		\n				\n			\n						\n				\n																														\n				\n					\n		\n					\n		\n				\n						\n					\n			\n							\n		\n					\n		\n				\n						\n					\n			\n						\n				\n							\n			\n						\n		\n						\n				\n				\n				\n									Join us for a free social hour for Spanish-speakers age 60 and older!Come to the DARTS office in West St. Paul to enjoy coffee\, snacks\, friendship\, and fun for Spanish-speakers age 60+ in the community. Come to one\, two\, or all dates! DetailsTime: 2:00 – 4:00 pmDates: Two Mondays per month     February 10     February 24     March 10     March 24Location: The DARTS Office\, 1645 Marthaler Lane West St. Paul\, MN 55118Registration not necessary. Transportation may be available. 								\n				\n				\n				\n									If you have questions\, call (651) 234-2251
URL:https://dartsconnects.org/event/gender-and-sexuality-march8/
LOCATION:DARTS Office\, 1645 Marthaler Lane\, West St. Paul\, MN\, 55118\, United States
CATEGORIES:Community Event
ATTACH;FMTTYPE=image/png:https://dartsconnects.org/wp-content/uploads/2024/01/Gender-and-Sexuality-Session.png
END:VEVENT
BEGIN:VEVENT
DTSTART;TZID=America/Chicago:20240314T130000
DTEND;TZID=America/Chicago:20240314T140000
DTSTAMP:20260422T080847
CREATED:20240123T161407Z
LAST-MODIFIED:20240123T161436Z
UID:10827-1710421200-1710424800@dartsconnects.org
SUMMARY:Gender & Sexuality 101
DESCRIPTION:¡Venga a una hora social gratuito para hispanohablantes mayores de 60 años!Venga a la oficina de DARTS en West St. Paul para una hora social gratuito para hispanohablantes en la comunidad mayores de 60 años. Hay muchas fechas – Asista a una\, dos\, o todas. Tome un café\, coma\, haga un amigo/a/e\, y ¡diviértase! Las detallesHora: 2:00 pm a 4:00 pmFechas: 2° y 4° lunes de cada mesLugar: La oficina de DARTS\, 1645 Marthaler Lane West St. Paul\, MN 55118No es necesario registrarse. Transporte puede ser disponible. 								\n				\n				\n				\n									Llame con preguntas: (651) 234-2251								\n				\n					\n		\n					\n		\n				\n						\n					\n			\n						\n				\n																														\n				\n					\n		\n				\n			\n						\n				\n																														\n				\n					\n		\n					\n		\n				\n						\n					\n			\n							\n		\n					\n		\n				\n						\n					\n			\n						\n				\n							\n			\n						\n		\n						\n				\n				\n				\n									Join us for a free social hour for Spanish-speakers age 60 and older!Come to the DARTS office in West St. Paul to enjoy coffee\, snacks\, friendship\, and fun for Spanish-speakers age 60+ in the community. Come to one\, two\, or all dates! DetailsTime: 2:00 – 4:00 pmDates: Two Mondays per month     February 10     February 24     March 10     March 24Location: The DARTS Office\, 1645 Marthaler Lane West St. Paul\, MN 55118Registration not necessary. Transportation may be available. 								\n				\n				\n				\n									If you have questions\, call (651) 234-2251
URL:https://dartsconnects.org/event/gender-sexuality-101/
LOCATION:Thompson Park Activity Center\, 1200 Stassen Lane\, West St. Paul\, MN\, 55118\, United States
CATEGORIES:Community Event
ATTACH;FMTTYPE=image/png:https://dartsconnects.org/wp-content/uploads/2024/01/Gender-and-Sexuality-Session.png
END:VEVENT
BEGIN:VEVENT
DTSTART;TZID=America/Chicago:20240325T093000
DTEND;TZID=America/Chicago:20240325T113000
DTSTAMP:20260422T080847
CREATED:20240119T185033Z
LAST-MODIFIED:20240119T190638Z
UID:10776-1711359000-1711366200@dartsconnects.org
SUMMARY:Café\, Pan y Conexión
DESCRIPTION:¡Venga a una hora social gratuito para hispanohablantes mayores de 60 años!Venga a la oficina de DARTS en West St. Paul para una hora social gratuito para hispanohablantes en la comunidad mayores de 60 años. Hay muchas fechas – Asista a una\, dos\, o todas. Tome un café\, coma\, haga un amigo/a/e\, y ¡diviértase! Las detallesHora: 2:00 pm a 4:00 pmFechas: 2° y 4° lunes de cada mesLugar: La oficina de DARTS\, 1645 Marthaler Lane West St. Paul\, MN 55118No es necesario registrarse. Transporte puede ser disponible. 								\n				\n				\n				\n									Llame con preguntas: (651) 234-2251								\n				\n					\n		\n					\n		\n				\n						\n					\n			\n						\n				\n																														\n				\n					\n		\n				\n			\n						\n				\n																														\n				\n					\n		\n					\n		\n				\n						\n					\n			\n							\n		\n					\n		\n				\n						\n					\n			\n						\n				\n							\n			\n						\n		\n						\n				\n				\n				\n									Join us for a free social hour for Spanish-speakers age 60 and older!Come to the DARTS office in West St. Paul to enjoy coffee\, snacks\, friendship\, and fun for Spanish-speakers age 60+ in the community. Come to one\, two\, or all dates! DetailsTime: 2:00 – 4:00 pmDates: Two Mondays per month     February 10     February 24     March 10     March 24Location: The DARTS Office\, 1645 Marthaler Lane West St. Paul\, MN 55118Registration not necessary. Transportation may be available. 								\n				\n				\n				\n									If you have questions\, call (651) 234-2251
URL:https://dartsconnects.org/event/cafe-pan-y-conexion-3/
LOCATION:DARTS Office\, 1645 Marthaler Lane\, West St. Paul\, MN\, 55118\, United States
CATEGORIES:Community Event,Evento Español
ATTACH;FMTTYPE=image/jpeg:https://dartsconnects.org/wp-content/uploads/2024/01/11.6.2023-Friends-and-Co-Image-8-e1705691189662.jpg
END:VEVENT
BEGIN:VEVENT
DTSTART;TZID=America/Chicago:20240327T113000
DTEND;TZID=America/Chicago:20240327T133000
DTSTAMP:20260422T080847
CREATED:20240325T151112Z
LAST-MODIFIED:20240325T151730Z
UID:11238-1711539000-1711546200@dartsconnects.org
SUMMARY:Let's Do Lunch
DESCRIPTION:¡Venga a una hora social gratuito para hispanohablantes mayores de 60 años!Venga a la oficina de DARTS en West St. Paul para una hora social gratuito para hispanohablantes en la comunidad mayores de 60 años. Hay muchas fechas – Asista a una\, dos\, o todas. Tome un café\, coma\, haga un amigo/a/e\, y ¡diviértase! Las detallesHora: 2:00 pm a 4:00 pmFechas: 2° y 4° lunes de cada mesLugar: La oficina de DARTS\, 1645 Marthaler Lane West St. Paul\, MN 55118No es necesario registrarse. Transporte puede ser disponible. 								\n				\n				\n				\n									Llame con preguntas: (651) 234-2251								\n				\n					\n		\n					\n		\n				\n						\n					\n			\n						\n				\n																														\n				\n					\n		\n				\n			\n						\n				\n																														\n				\n					\n		\n					\n		\n				\n						\n					\n			\n							\n		\n					\n		\n				\n						\n					\n			\n						\n				\n							\n			\n						\n		\n						\n				\n				\n				\n									Join us for a free social hour for Spanish-speakers age 60 and older!Come to the DARTS office in West St. Paul to enjoy coffee\, snacks\, friendship\, and fun for Spanish-speakers age 60+ in the community. Come to one\, two\, or all dates! DetailsTime: 2:00 – 4:00 pmDates: Two Mondays per month     February 10     February 24     March 10     March 24Location: The DARTS Office\, 1645 Marthaler Lane West St. Paul\, MN 55118Registration not necessary. Transportation may be available. 								\n				\n				\n				\n									If you have questions\, call (651) 234-2251
URL:https://dartsconnects.org/event/lets-do-lunch/
LOCATION:DARTS Office\, 1645 Marthaler Lane\, West St. Paul\, MN\, 55118\, United States
CATEGORIES:Community Event
ATTACH;FMTTYPE=image/png:https://dartsconnects.org/wp-content/uploads/2024/03/Lets-Do-Lunch-BANNER.png
END:VEVENT
END:VCALENDAR